BEGIN:VCALENDAR
VERSION:2.0
PRODID:-//Legacy Ministries - ECPv6.15.20//NONSGML v1.0//EN
CALSCALE:GREGORIAN
METHOD:PUBLISH
X-WR-CALNAME:Legacy Ministries
X-ORIGINAL-URL:https://www.legacyministries.info
X-WR-CALDESC:Events for Legacy Ministries
REFRESH-INTERVAL;VALUE=DURATION:PT1H
X-Robots-Tag:noindex
X-PUBLISHED-TTL:PT1H
BEGIN:VTIMEZONE
TZID:America/New_York
BEGIN:DAYLIGHT
TZOFFSETFROM:-0500
TZOFFSETTO:-0400
TZNAME:EDT
DTSTART:20240310T070000
END:DAYLIGHT
BEGIN:STANDARD
TZOFFSETFROM:-0400
TZOFFSETTO:-0500
TZNAME:EST
DTSTART:20241103T060000
END:STANDARD
BEGIN:DAYLIGHT
TZOFFSETFROM:-0500
TZOFFSETTO:-0400
TZNAME:EDT
DTSTART:20250309T070000
END:DAYLIGHT
BEGIN:STANDARD
TZOFFSETFROM:-0400
TZOFFSETTO:-0500
TZNAME:EST
DTSTART:20251102T060000
END:STANDARD
BEGIN:DAYLIGHT
TZOFFSETFROM:-0500
TZOFFSETTO:-0400
TZNAME:EDT
DTSTART:20260308T070000
END:DAYLIGHT
BEGIN:STANDARD
TZOFFSETFROM:-0400
TZOFFSETTO:-0500
TZNAME:EST
DTSTART:20261101T060000
END:STANDARD
END:VTIMEZONE
BEGIN:VEVENT
DTSTART;TZID=America/New_York:20251101T083000
DTEND;TZID=America/New_York:20251101T123000
DTSTAMP:20260420T145442
CREATED:20250820T193926Z
LAST-MODIFIED:20251101T004857Z
UID:10000155-1761985800-1762000200@www.legacyministries.info
SUMMARY:Faith in the Marketplace - Nov 2025
DESCRIPTION:Equipping Workplace Believers \nJoin us for this “Faith in the Marketplace” conversation in The Gathering Space at Trinity Church. \nCome and hear how our speakers and your fellow attendees have experienced God in their work lives. We trust that the Holy Spirit will be fully present and that all who attend will come away equipped with new and/or updated perspectives on how to engage authentically in their Christ-centered faith in their place of work\, no matter their vocation. We hope you will join us for a time of: \n*  Food and Fellowship\n*  Worship and Prayer\n*  Speakers\n*  Small group discussions \nThere is no charge to attend. A free-will donation will be welcomed. \nIndividual and Corporate Sponsorships are welcomed. Please click HERE [opens in a new browser tab] to support the event. \n\nPLEASE NOTE: When registering\, please ensure that you fully complete the checkout process. If you don’t receive an email\, your registration was not completed successfully. \nAfter registering\, please visit HERE [opens in a new browser tab] to see more Legacy Ministries events and activities.
URL:https://www.legacyministries.info/event-calendar/faith-in-the-marketplace-nov-2025/
LOCATION:Trinity Church\, 8817 GA 54\, Sharpsburg\, GA\, 30277\, United States
CATEGORIES:Equipped with Joy (Marketplace),Fellowship,Training,Workshops
ATTACH;FMTTYPE=image/png:https://www.legacyministries.info/wp-content/uploads/2025/07/Faith-in-the-Marketplace-2025-3.png
ORGANIZER;CN="Legacy Ministries":MAILTO:Info@LegacyMinistries.Info
GEO:33.394345;-84.6161874
X-APPLE-STRUCTURED-LOCATION;VALUE=URI;X-ADDRESS=Trinity Church 8817 GA 54 Sharpsburg GA 30277 United States;X-APPLE-RADIUS=500;X-TITLE=8817 GA 54:geo:-84.6161874,33.394345
END:VEVENT
END:VCALENDAR