BEGIN:VCALENDAR
VERSION:2.0
PRODID:-//Legacy Ministries - ECPv6.15.20//NONSGML v1.0//EN
CALSCALE:GREGORIAN
METHOD:PUBLISH
X-WR-CALNAME:Legacy Ministries
X-ORIGINAL-URL:https://www.legacyministries.info
X-WR-CALDESC:Events for Legacy Ministries
REFRESH-INTERVAL;VALUE=DURATION:PT1H
X-Robots-Tag:noindex
X-PUBLISHED-TTL:PT1H
BEGIN:VTIMEZONE
TZID:America/New_York
BEGIN:DAYLIGHT
TZOFFSETFROM:-0500
TZOFFSETTO:-0400
TZNAME:EDT
DTSTART:20240310T070000
END:DAYLIGHT
BEGIN:STANDARD
TZOFFSETFROM:-0400
TZOFFSETTO:-0500
TZNAME:EST
DTSTART:20241103T060000
END:STANDARD
BEGIN:DAYLIGHT
TZOFFSETFROM:-0500
TZOFFSETTO:-0400
TZNAME:EDT
DTSTART:20250309T070000
END:DAYLIGHT
BEGIN:STANDARD
TZOFFSETFROM:-0400
TZOFFSETTO:-0500
TZNAME:EST
DTSTART:20251102T060000
END:STANDARD
BEGIN:DAYLIGHT
TZOFFSETFROM:-0500
TZOFFSETTO:-0400
TZNAME:EDT
DTSTART:20260308T070000
END:DAYLIGHT
BEGIN:STANDARD
TZOFFSETFROM:-0400
TZOFFSETTO:-0500
TZNAME:EST
DTSTART:20261101T060000
END:STANDARD
END:VTIMEZONE
BEGIN:VEVENT
DTSTART;TZID=America/New_York:20250805T190000
DTEND;TZID=America/New_York:20250805T210000
DTSTAMP:20260423T044626
CREATED:20250730T200606Z
LAST-MODIFIED:20250730T201628Z
UID:10000088-1754420400-1754427600@www.legacyministries.info
SUMMARY:Growing Disciples
DESCRIPTION:On the first Tuesday of each month\, we will gather at the Legacy Center and on Zoom (see note below) in order to encourage one another to deepen our maturity as disciples of Jesus Christ. We will have time in prayer\, fellowship\, and study as we all seek to be and to Grow Disciples. \nPLEASE NOTE: For this gathering in August\, we will be showing the movie\, “The Forge” (movie trailer link opens in new window). For this reason\, we will not be able to allow Zoom participation in order to protect the digital rights of the film. This will be in-person only. \n\nAfter registering\, please visit HERE to see more Legacy Ministries events and activities.
URL:https://www.legacyministries.info/event-calendar/growing-disciples-aug-2025/
LOCATION:Legacy Center\, 1952 Hwy. 54\, Suite 100\, Peachtree City\, GA\, 30269\, United States
CATEGORIES:Discipleship,Training
ATTACH;FMTTYPE=image/jpeg:https://www.legacyministries.info/wp-content/uploads/2024/12/Discipleship-Group-02.jpg
ORGANIZER;CN="Legacy Ministries":MAILTO:Info@LegacyMinistries.Info
GEO:33.429538;-84.555185
X-APPLE-STRUCTURED-LOCATION;VALUE=URI;X-ADDRESS=Legacy Center 1952 Hwy. 54 Suite 100 Peachtree City GA 30269 United States;X-APPLE-RADIUS=500;X-TITLE=1952 Hwy. 54\, Suite 100:geo:-84.555185,33.429538
END:VEVENT
BEGIN:VEVENT
DTSTART;TZID=America/New_York:20250816T083000
DTEND;TZID=America/New_York:20250816T120000
DTSTAMP:20260423T044626
CREATED:20241028T000154Z
LAST-MODIFIED:20250805T164344Z
UID:10000004-1755333000-1755345600@www.legacyministries.info
SUMMARY:Faith in the Marketplace 2025
DESCRIPTION:Equipping Workplace Believers \nJoin us for this “Faith in the Marketplace” conversation in the Gathering Space at Trinity Church. \nCome and hear how our speakers and your fellow attendees have experienced God in their work lives. We trust that the Holy Spirit will be fully present and that all who attend will come away equipped with new and/or updated perspectives on how to engage authentically in their Christ-centered faith in their place of work\, no matter their vocation. We hope you will join us for a time of: \n*  Food and Fellowship\n*  Worship and Prayer\n*  Speakers\n*  Small group discussions \nThere is no charge to attend. A free-will donation will be welcomed. \nIndividual and Corporate Sponsorships are welcomed. Please click HERE [opens in a new browser tab] to support the event. \n\nAfter registering\, please visit HERE [opens in a new browser tab] to see more Legacy Ministries events and activities.
URL:https://www.legacyministries.info/event-calendar/faith-in-the-marketplace-2025/
LOCATION:Trinity Church\, 8817 GA 54\, Sharpsburg\, GA\, 30277\, United States
CATEGORIES:Fellowship,Training,Workshops
ATTACH;FMTTYPE=image/png:https://www.legacyministries.info/wp-content/uploads/2024/10/Faith-in-the-Marketplace-16X9-Ad.png
ORGANIZER;CN="Legacy Ministries":MAILTO:Info@LegacyMinistries.Info
GEO:33.394345;-84.6161874
X-APPLE-STRUCTURED-LOCATION;VALUE=URI;X-ADDRESS=Trinity Church 8817 GA 54 Sharpsburg GA 30277 United States;X-APPLE-RADIUS=500;X-TITLE=8817 GA 54:geo:-84.6161874,33.394345
END:VEVENT
BEGIN:VEVENT
DTSTART;TZID=America/New_York:20250822T183000
DTEND;TZID=America/New_York:20250823T160000
DTSTAMP:20260423T044626
CREATED:20241030T001822Z
LAST-MODIFIED:20260315T011532Z
UID:10000007-1755887400-1755964800@www.legacyministries.info
SUMMARY:Inner Healing Prayer Training
DESCRIPTION:This event is scheduled from 6:30 PM – 9:00 PM Friday August 22 and Saturday the 23rd from 9:00 AM – 4:00 PM with a break for lunch. \nThe heart of Legacy Ministries is to equip believers to be effective for Christ’s Kingdom in whatever way He calls them to serve. Many times people have a hard time doing anything for God because of the hurts and wounds deep down in their hearts. ​At the Legacy Center\, we offer Inner Healing Prayer sessions with trained facilitators. The facilitator does not counsel the participant in the same manner as in traditional counseling\, but simply takes them in prayer to the Lord for Him to bring healing truth to the source of their woundedness! \nWhen registering please continue all the way through the process. If you do not get an email confirmation of the registration you did not follow all of the prompts. \n\nPlease note that the links below will open in a new browser tab. \nPlease see our Inner Healing Prayer page for additional details. \nFor Alumni registrants\, please click HERE to donate. \n 
URL:https://www.legacyministries.info/event-calendar/aug-2025-ihp/
LOCATION:Legacy Center\, 1952 Hwy. 54\, Suite 100\, Peachtree City\, GA\, 30269\, United States
CATEGORIES:Inner Healing Prayer,Training
ATTACH;FMTTYPE=image/png:https://www.legacyministries.info/wp-content/uploads/2024/10/Inner-Healing-Carousel.png
ORGANIZER;CN="Legacy Ministries":MAILTO:Info@LegacyMinistries.Info
GEO:33.429538;-84.555185
X-APPLE-STRUCTURED-LOCATION;VALUE=URI;X-ADDRESS=Legacy Center 1952 Hwy. 54 Suite 100 Peachtree City GA 30269 United States;X-APPLE-RADIUS=500;X-TITLE=1952 Hwy. 54\, Suite 100:geo:-84.555185,33.429538
END:VEVENT
END:VCALENDAR