BEGIN:VCALENDAR
VERSION:2.0
PRODID:-//Legacy Ministries - ECPv6.15.20//NONSGML v1.0//EN
CALSCALE:GREGORIAN
METHOD:PUBLISH
X-ORIGINAL-URL:https://www.legacyministries.info
X-WR-CALDESC:Events for Legacy Ministries
REFRESH-INTERVAL;VALUE=DURATION:PT1H
X-Robots-Tag:noindex
X-PUBLISHED-TTL:PT1H
BEGIN:VTIMEZONE
TZID:America/New_York
BEGIN:DAYLIGHT
TZOFFSETFROM:-0500
TZOFFSETTO:-0400
TZNAME:EDT
DTSTART:20240310T070000
END:DAYLIGHT
BEGIN:STANDARD
TZOFFSETFROM:-0400
TZOFFSETTO:-0500
TZNAME:EST
DTSTART:20241103T060000
END:STANDARD
BEGIN:DAYLIGHT
TZOFFSETFROM:-0500
TZOFFSETTO:-0400
TZNAME:EDT
DTSTART:20250309T070000
END:DAYLIGHT
BEGIN:STANDARD
TZOFFSETFROM:-0400
TZOFFSETTO:-0500
TZNAME:EST
DTSTART:20251102T060000
END:STANDARD
BEGIN:DAYLIGHT
TZOFFSETFROM:-0500
TZOFFSETTO:-0400
TZNAME:EDT
DTSTART:20260308T070000
END:DAYLIGHT
BEGIN:STANDARD
TZOFFSETFROM:-0400
TZOFFSETTO:-0500
TZNAME:EST
DTSTART:20261101T060000
END:STANDARD
END:VTIMEZONE
BEGIN:VEVENT
DTSTART;TZID=America/New_York:20250902T190000
DTEND;TZID=America/New_York:20250902T203000
DTSTAMP:20260420T213125
CREATED:20250820T211722Z
LAST-MODIFIED:20250820T213459Z
UID:10000089-1756839600-1756845000@www.legacyministries.info
SUMMARY:Growing Disciples
DESCRIPTION:On the first Tuesday of each month\, we will gather at the Legacy Center and on Zoom in order to encourage one another to deepen our maturity as disciples of Jesus Christ. We will have time in prayer\, fellowship\, and study as we all seek to be and to Grow Disciples. \nPLEASE NOTE: For this gathering in September\, we will be reviewing the movie that we watched in August (“The Forge”) and discussing Bible study/discipleship options for diving deeper into this very good film about discipleship and living out our faith in our workplaces. \nIf you are able\, please purchase a study guide before we meet on September 2nd. \nOPTION 1 : Paperback from Amazon or Lifeway (links open in a new tab)\nOPTION 2 : eBook from Lifeway (link opens in new tab) \nREGISTRATION REMINDER : Please be sure to proceed all the way through the ticketing process to ensure that you have successfully registered for this gathering. \n\nAfter registering\, please visit HERE to see more Legacy Ministries events and activities. \n 
URL:https://www.legacyministries.info/event-calendar/growing-disciples-sep-2025/
LOCATION:Legacy Center\, 1952 Hwy. 54\, Suite 100\, Peachtree City\, GA\, 30269\, United States
CATEGORIES:Discipleship,Training
ATTACH;FMTTYPE=image/jpeg:https://www.legacyministries.info/wp-content/uploads/2024/12/Discipleship-Group-02.jpg
ORGANIZER;CN="Legacy Ministries":MAILTO:Info@LegacyMinistries.Info
GEO:33.429538;-84.555185
X-APPLE-STRUCTURED-LOCATION;VALUE=URI;X-ADDRESS=Legacy Center 1952 Hwy. 54 Suite 100 Peachtree City GA 30269 United States;X-APPLE-RADIUS=500;X-TITLE=1952 Hwy. 54\, Suite 100:geo:-84.555185,33.429538
END:VEVENT
BEGIN:VEVENT
DTSTART;TZID=America/New_York:20250916T190000
DTEND;TZID=America/New_York:20250916T203000
DTSTAMP:20260420T213125
CREATED:20250820T195329Z
LAST-MODIFIED:20250907T011855Z
UID:10000156-1758049200-1758054600@www.legacyministries.info
SUMMARY:Bible Study - Share and Grow
DESCRIPTION:We hope you will join us for this evening of sharing and fellowship where we will each share a favorite passage from the Scriptures and some details about why the passage means so much to us. \nOver the past several months\, we studied Paul’s letter to the church in Ephesus. This study gave those who participated an opportunity to explore some powerful theological principles. While Ephesians is a very good letter\, we want to open up the discussion in September to all of Scripture. Bring your personal favorite verse to the group and be prepared to share. \n\nPlease note: The links below will open in a new browser tab so that you don’t lose your place. Downloading documents requires filling out a brief form. \nINDUCTIVE STUDY BACKGROUND INFO (not required for the September session\, but might be helpful): \nIf you were unable to join us for our Inductive Study Workshop earlier in 2025\, you can watch a YouTube video of the session HERE. A link to the PDF handout for that workshop is included on the YouTube video page and can also be accessed on our website HERE. In addition\, a link to the content that was shared during the March 25th Ephesians Introduction/Overview session can be found HERE. \nAfter registering\, please visit HERE to see more Legacy Ministries events and activities.
URL:https://www.legacyministries.info/event-calendar/bible-study-share/
LOCATION:Legacy Center\, 1952 Hwy. 54\, Suite 100\, Peachtree City\, GA\, 30269\, United States
CATEGORIES:Scripture Studies,Training
ATTACH;FMTTYPE=image/jpeg:https://www.legacyministries.info/wp-content/uploads/2024/10/Bible-Study-scaled.jpg
ORGANIZER;CN="Legacy Ministries":MAILTO:Info@LegacyMinistries.Info
GEO:33.429538;-84.555185
X-APPLE-STRUCTURED-LOCATION;VALUE=URI;X-ADDRESS=Legacy Center 1952 Hwy. 54 Suite 100 Peachtree City GA 30269 United States;X-APPLE-RADIUS=500;X-TITLE=1952 Hwy. 54\, Suite 100:geo:-84.555185,33.429538
END:VEVENT
END:VCALENDAR