BEGIN:VCALENDAR
VERSION:2.0
PRODID:-//Legacy Ministries - ECPv6.15.20//NONSGML v1.0//EN
CALSCALE:GREGORIAN
METHOD:PUBLISH
X-ORIGINAL-URL:https://www.legacyministries.info
X-WR-CALDESC:Events for Legacy Ministries
REFRESH-INTERVAL;VALUE=DURATION:PT1H
X-Robots-Tag:noindex
X-PUBLISHED-TTL:PT1H
BEGIN:VTIMEZONE
TZID:America/New_York
BEGIN:DAYLIGHT
TZOFFSETFROM:-0500
TZOFFSETTO:-0400
TZNAME:EDT
DTSTART:20240310T070000
END:DAYLIGHT
BEGIN:STANDARD
TZOFFSETFROM:-0400
TZOFFSETTO:-0500
TZNAME:EST
DTSTART:20241103T060000
END:STANDARD
BEGIN:DAYLIGHT
TZOFFSETFROM:-0500
TZOFFSETTO:-0400
TZNAME:EDT
DTSTART:20250309T070000
END:DAYLIGHT
BEGIN:STANDARD
TZOFFSETFROM:-0400
TZOFFSETTO:-0500
TZNAME:EST
DTSTART:20251102T060000
END:STANDARD
BEGIN:DAYLIGHT
TZOFFSETFROM:-0500
TZOFFSETTO:-0400
TZNAME:EDT
DTSTART:20260308T070000
END:DAYLIGHT
BEGIN:STANDARD
TZOFFSETFROM:-0400
TZOFFSETTO:-0500
TZNAME:EST
DTSTART:20261101T060000
END:STANDARD
END:VTIMEZONE
BEGIN:VEVENT
DTSTART;TZID=America/New_York:20251014T190000
DTEND;TZID=America/New_York:20251014T203000
DTSTAMP:20260420T155054
CREATED:20251006T231427Z
LAST-MODIFIED:20251006T232259Z
UID:10000090-1760468400-1760473800@www.legacyministries.info
SUMMARY:Growing Disciples
DESCRIPTION:SCHEDULING NOTE: This month\, we are meeting on the SECOND Tuesday due to construction (roof replacement) at the Legacy Center. \nWe normally meet on the first Tuesday of each month\, where we gather at the Legacy Center and on Zoom in order to encourage one another to deepen our maturity as disciples of Jesus Christ. We will have time in prayer\, fellowship\, and study as we all seek to be and to Grow Disciples. \nOCTOBER GATHERING: For this month\, we will be reviewing the movie that we watched in August (“The Forge”) and discussing Bible study/discipleship options for diving deeper into this very good film about discipleship and living out our faith in our workplaces. \nIf you are able\, please purchase a study guide before we meet on October 14th. \nOPTION 1 : Paperback from Amazon or Lifeway (links open in a new tab)\nOPTION 2 : eBook from Lifeway (link opens in new tab) \nREGISTRATION REMINDER : Please be sure to proceed all the way through the ticketing process to ensure that you have successfully registered for this gathering. \n\nAfter registering\, please visit HERE to see more Legacy Ministries events and activities. \n 
URL:https://www.legacyministries.info/event-calendar/oct-disciples/
LOCATION:Legacy Center\, 1952 Hwy. 54\, Suite 100\, Peachtree City\, GA\, 30269\, United States
CATEGORIES:Discipleship,Training
ATTACH;FMTTYPE=image/jpeg:https://www.legacyministries.info/wp-content/uploads/2024/12/Discipleship-Group-02.jpg
ORGANIZER;CN="Legacy Ministries":MAILTO:Info@LegacyMinistries.Info
GEO:33.429538;-84.555185
X-APPLE-STRUCTURED-LOCATION;VALUE=URI;X-ADDRESS=Legacy Center 1952 Hwy. 54 Suite 100 Peachtree City GA 30269 United States;X-APPLE-RADIUS=500;X-TITLE=1952 Hwy. 54\, Suite 100:geo:-84.555185,33.429538
END:VEVENT
END:VCALENDAR