BEGIN:VCALENDAR
VERSION:2.0
PRODID:-//Legacy Ministries - ECPv6.15.20//NONSGML v1.0//EN
CALSCALE:GREGORIAN
METHOD:PUBLISH
X-ORIGINAL-URL:https://www.legacyministries.info
X-WR-CALDESC:Events for Legacy Ministries
REFRESH-INTERVAL;VALUE=DURATION:PT1H
X-Robots-Tag:noindex
X-PUBLISHED-TTL:PT1H
BEGIN:VTIMEZONE
TZID:America/New_York
BEGIN:DAYLIGHT
TZOFFSETFROM:-0500
TZOFFSETTO:-0400
TZNAME:EDT
DTSTART:20240310T070000
END:DAYLIGHT
BEGIN:STANDARD
TZOFFSETFROM:-0400
TZOFFSETTO:-0500
TZNAME:EST
DTSTART:20241103T060000
END:STANDARD
BEGIN:DAYLIGHT
TZOFFSETFROM:-0500
TZOFFSETTO:-0400
TZNAME:EDT
DTSTART:20250309T070000
END:DAYLIGHT
BEGIN:STANDARD
TZOFFSETFROM:-0400
TZOFFSETTO:-0500
TZNAME:EST
DTSTART:20251102T060000
END:STANDARD
BEGIN:DAYLIGHT
TZOFFSETFROM:-0500
TZOFFSETTO:-0400
TZNAME:EDT
DTSTART:20260308T070000
END:DAYLIGHT
BEGIN:STANDARD
TZOFFSETFROM:-0400
TZOFFSETTO:-0500
TZNAME:EST
DTSTART:20261101T060000
END:STANDARD
END:VTIMEZONE
BEGIN:VEVENT
DTSTART;TZID=America/New_York:20251101T083000
DTEND;TZID=America/New_York:20251101T123000
DTSTAMP:20260420T140100
CREATED:20250820T193926Z
LAST-MODIFIED:20251101T004857Z
UID:10000155-1761985800-1762000200@www.legacyministries.info
SUMMARY:Faith in the Marketplace - Nov 2025
DESCRIPTION:Equipping Workplace Believers \nJoin us for this “Faith in the Marketplace” conversation in The Gathering Space at Trinity Church. \nCome and hear how our speakers and your fellow attendees have experienced God in their work lives. We trust that the Holy Spirit will be fully present and that all who attend will come away equipped with new and/or updated perspectives on how to engage authentically in their Christ-centered faith in their place of work\, no matter their vocation. We hope you will join us for a time of: \n*  Food and Fellowship\n*  Worship and Prayer\n*  Speakers\n*  Small group discussions \nThere is no charge to attend. A free-will donation will be welcomed. \nIndividual and Corporate Sponsorships are welcomed. Please click HERE [opens in a new browser tab] to support the event. \n\nPLEASE NOTE: When registering\, please ensure that you fully complete the checkout process. If you don’t receive an email\, your registration was not completed successfully. \nAfter registering\, please visit HERE [opens in a new browser tab] to see more Legacy Ministries events and activities.
URL:https://www.legacyministries.info/event-calendar/faith-in-the-marketplace-nov-2025/
LOCATION:Trinity Church\, 8817 GA 54\, Sharpsburg\, GA\, 30277\, United States
CATEGORIES:Equipped with Joy (Marketplace),Fellowship,Training,Workshops
ATTACH;FMTTYPE=image/png:https://www.legacyministries.info/wp-content/uploads/2025/07/Faith-in-the-Marketplace-2025-3.png
ORGANIZER;CN="Legacy Ministries":MAILTO:Info@LegacyMinistries.Info
GEO:33.394345;-84.6161874
X-APPLE-STRUCTURED-LOCATION;VALUE=URI;X-ADDRESS=Trinity Church 8817 GA 54 Sharpsburg GA 30277 United States;X-APPLE-RADIUS=500;X-TITLE=8817 GA 54:geo:-84.6161874,33.394345
END:VEVENT
BEGIN:VEVENT
DTSTART;TZID=America/New_York:20251104T190000
DTEND;TZID=America/New_York:20251104T203000
DTSTAMP:20260420T140100
CREATED:20251006T235055Z
LAST-MODIFIED:20251006T235531Z
UID:10000091-1762282800-1762288200@www.legacyministries.info
SUMMARY:Growing Disciples
DESCRIPTION:We typically meet on the first Tuesday of each month\, where we gather at the Legacy Center and on Zoom in order to encourage one another to deepen our maturity as disciples of Jesus Christ. We will have time in prayer\, fellowship\, and study as we all seek to be and to Grow Disciples. \nNOVEMBER GATHERING: For this month\, we will continue our Bible Study review of the movie that we watched in August (“The Forge”)\, diving deeper into this very good film about discipleship and living out our faith in our workplaces. \nIf you are able\, please purchase a study guide before we meet on November 4th. \nOPTION 1 : Paperback from Amazon or Lifeway (links open in a new tab)\nOPTION 2 : eBook from Lifeway (link opens in new tab) \nREGISTRATION REMINDER : Please be sure to proceed all the way through the ticketing process to ensure that you have successfully registered for this gathering. \n\nAfter registering\, please visit HERE to see more Legacy Ministries events and activities.
URL:https://www.legacyministries.info/event-calendar/nov-disciples/
LOCATION:Legacy Center\, 1952 Hwy. 54\, Suite 100\, Peachtree City\, GA\, 30269\, United States
CATEGORIES:Discipleship,Training
ATTACH;FMTTYPE=image/jpeg:https://www.legacyministries.info/wp-content/uploads/2024/12/Discipleship-Group-02.jpg
ORGANIZER;CN="Legacy Ministries":MAILTO:Info@LegacyMinistries.Info
GEO:33.429538;-84.555185
X-APPLE-STRUCTURED-LOCATION;VALUE=URI;X-ADDRESS=Legacy Center 1952 Hwy. 54 Suite 100 Peachtree City GA 30269 United States;X-APPLE-RADIUS=500;X-TITLE=1952 Hwy. 54\, Suite 100:geo:-84.555185,33.429538
END:VEVENT
BEGIN:VEVENT
DTSTART;TZID=America/New_York:20251118T190000
DTEND;TZID=America/New_York:20251118T203000
DTSTAMP:20260420T140100
CREATED:20251006T234635Z
LAST-MODIFIED:20251006T234635Z
UID:10000162-1763492400-1763497800@www.legacyministries.info
SUMMARY:Bible Study - Christmas Prophesies
DESCRIPTION:We hope you will join us for this evening of fellowship and a review of Bible prophesies about the birth of Jesus. \n\nPlease note: Links below open in a new browser tab so that you don’t lose your place. Downloading documents requires filling out a brief form. \nIn recent months\, we learned how to study the Bible inductively. We then spent a few months studying Paul’s letter to the church in Ephesus using this method. In January\, we will begin a new inductive study. We’ll share which book of the Bible as we approach that session. \nINDUCTIVE STUDY BACKGROUND INFO (not required for the September session\, but might be helpful): \nIf you were unable to join us for our Inductive Study Workshop earlier in 2025\, you can watch a YouTube video of the session HERE. A link to the PDF handout for that workshop is included on the YouTube video page and can also be accessed on our website HERE. In addition\, a link to the content that was shared during the March 25th Ephesians Introduction/Overview session can be found HERE. \nAfter registering\, please visit HERE to see more Legacy Ministries events and activities.
URL:https://www.legacyministries.info/event-calendar/christmas-prophesies/
LOCATION:Legacy Center\, 1952 Hwy. 54\, Suite 100\, Peachtree City\, GA\, 30269\, United States
CATEGORIES:Scripture Studies,Training
ATTACH;FMTTYPE=image/jpeg:https://www.legacyministries.info/wp-content/uploads/2024/10/Bible-Study-scaled.jpg
ORGANIZER;CN="Legacy Ministries":MAILTO:Info@LegacyMinistries.Info
GEO:33.429538;-84.555185
X-APPLE-STRUCTURED-LOCATION;VALUE=URI;X-ADDRESS=Legacy Center 1952 Hwy. 54 Suite 100 Peachtree City GA 30269 United States;X-APPLE-RADIUS=500;X-TITLE=1952 Hwy. 54\, Suite 100:geo:-84.555185,33.429538
END:VEVENT
END:VCALENDAR