BEGIN:VCALENDAR
VERSION:2.0
PRODID:-//Legacy Ministries - ECPv6.15.20//NONSGML v1.0//EN
CALSCALE:GREGORIAN
METHOD:PUBLISH
X-WR-CALNAME:Legacy Ministries
X-ORIGINAL-URL:https://www.legacyministries.info
X-WR-CALDESC:Events for Legacy Ministries
REFRESH-INTERVAL;VALUE=DURATION:PT1H
X-Robots-Tag:noindex
X-PUBLISHED-TTL:PT1H
BEGIN:VTIMEZONE
TZID:America/New_York
BEGIN:DAYLIGHT
TZOFFSETFROM:-0500
TZOFFSETTO:-0400
TZNAME:EDT
DTSTART:20250309T070000
END:DAYLIGHT
BEGIN:STANDARD
TZOFFSETFROM:-0400
TZOFFSETTO:-0500
TZNAME:EST
DTSTART:20251102T060000
END:STANDARD
BEGIN:DAYLIGHT
TZOFFSETFROM:-0500
TZOFFSETTO:-0400
TZNAME:EDT
DTSTART:20260308T070000
END:DAYLIGHT
BEGIN:STANDARD
TZOFFSETFROM:-0400
TZOFFSETTO:-0500
TZNAME:EST
DTSTART:20261101T060000
END:STANDARD
BEGIN:DAYLIGHT
TZOFFSETFROM:-0500
TZOFFSETTO:-0400
TZNAME:EDT
DTSTART:20270314T070000
END:DAYLIGHT
BEGIN:STANDARD
TZOFFSETFROM:-0400
TZOFFSETTO:-0500
TZNAME:EST
DTSTART:20271107T060000
END:STANDARD
END:VTIMEZONE
BEGIN:VEVENT
DTSTART;TZID=America/New_York:20260203T190000
DTEND;TZID=America/New_York:20260203T203000
DTSTAMP:20260420T050107
CREATED:20260122T032015Z
LAST-MODIFIED:20260210T164714Z
UID:10000168-1770145200-1770150600@www.legacyministries.info
SUMMARY:Growing Disciples
DESCRIPTION:We typically meet on the first Tuesday of each month\, where we gather at the Legacy Center and on Zoom in order to encourage one another to deepen our maturity as disciples of Jesus Christ. We will have time in prayer\, fellowship\, and study as we all seek to be and to Grow Disciples. \nFEBRUARY GATHERING: For this month\, we will continue our Bible Study review of the movie that we watched in August (“The Forge”)\, diving deeper into this very good film about discipleship and living out our faith in our workplaces. We will review WEEK 4 “Day 1” through “Day 3” content and then watch the video for SESSION 5 together. \nIf you are able\, please purchase a study guide before we meet on February 3rd. \nOPTION 1 : Paperback from Amazon or Lifeway (links open in a new tab)\nOPTION 2 : eBook from Lifeway (link opens in new tab) \nREGISTRATION REMINDER : When registering\, please ensure that you complete the checkout process. How-To details can be reviewed HERE [opens in a new browser tab]. \n\nAfter registering\, please visit HERE to see more Legacy Ministries events and activities.
URL:https://www.legacyministries.info/event-calendar/feb-2026-disciples/
LOCATION:Legacy Center\, 1952 Hwy. 54\, Suite 100\, Peachtree City\, GA\, 30269\, United States
CATEGORIES:Discipleship,Training
ATTACH;FMTTYPE=image/jpeg:https://www.legacyministries.info/wp-content/uploads/2024/12/Discipleship-Group-02.jpg
ORGANIZER;CN="Legacy Ministries":MAILTO:Info@LegacyMinistries.Info
GEO:33.429538;-84.555185
X-APPLE-STRUCTURED-LOCATION;VALUE=URI;X-ADDRESS=Legacy Center 1952 Hwy. 54 Suite 100 Peachtree City GA 30269 United States;X-APPLE-RADIUS=500;X-TITLE=1952 Hwy. 54\, Suite 100:geo:-84.555185,33.429538
END:VEVENT
BEGIN:VEVENT
DTSTART;TZID=America/New_York:20260217T190000
DTEND;TZID=America/New_York:20260217T210000
DTSTAMP:20260420T050107
CREATED:20260122T141343Z
LAST-MODIFIED:20260221T171420Z
UID:10000169-1771354800-1771362000@www.legacyministries.info
SUMMARY:Bible Study - Colossians 1
DESCRIPTION:On February 17th\, 2026\, we will begin a new inductive study in the book of Colossians. We will leverage the resources below to study this letter from the Apostle Paul to the church in Colossae.  \nPlease use the links below to catch up and study chapter 1 before we gather together. \n\nPlease note: Links below open in a new browser tab so that you don’t lose your place. Downloading documents requires filling out a brief form. \nINDUCTIVE STUDY BACKGROUND INFO (helpful for the January session): \nIf you were unable to join us for our Inductive Study Workshop in 2025\, you can watch a YouTube video of the session HERE. A link to the PDF handout for that workshop is included on the YouTube video page and can also be accessed on our website HERE. In addition\, a link to the “Theology 101” session that we hosted in January of this year can be found HERE. \n\nREGISTRATION REMINDER : When registering\, please ensure that you complete the checkout process. How-To details can be reviewed HERE. \nAfter registering\, please visit HERE to see more Legacy Ministries events and activities.
URL:https://www.legacyministries.info/event-calendar/feb2026-bible-study/
LOCATION:Legacy Center\, 1952 Hwy. 54\, Suite 100\, Peachtree City\, GA\, 30269\, United States
CATEGORIES:Scripture Studies,Training
ATTACH;FMTTYPE=image/jpeg:https://www.legacyministries.info/wp-content/uploads/2025/01/Bible-Study-Square-scaled.jpg
ORGANIZER;CN="Legacy Ministries":MAILTO:Info@LegacyMinistries.Info
GEO:33.429538;-84.555185
X-APPLE-STRUCTURED-LOCATION;VALUE=URI;X-ADDRESS=Legacy Center 1952 Hwy. 54 Suite 100 Peachtree City GA 30269 United States;X-APPLE-RADIUS=500;X-TITLE=1952 Hwy. 54\, Suite 100:geo:-84.555185,33.429538
END:VEVENT
END:VCALENDAR