BEGIN:VCALENDAR
VERSION:2.0
PRODID:-//Legacy Ministries - ECPv6.15.20//NONSGML v1.0//EN
CALSCALE:GREGORIAN
METHOD:PUBLISH
X-WR-CALNAME:Legacy Ministries
X-ORIGINAL-URL:https://www.legacyministries.info
X-WR-CALDESC:Events for Legacy Ministries
REFRESH-INTERVAL;VALUE=DURATION:PT1H
X-Robots-Tag:noindex
X-PUBLISHED-TTL:PT1H
BEGIN:VTIMEZONE
TZID:America/New_York
BEGIN:DAYLIGHT
TZOFFSETFROM:-0500
TZOFFSETTO:-0400
TZNAME:EDT
DTSTART:20230312T070000
END:DAYLIGHT
BEGIN:STANDARD
TZOFFSETFROM:-0400
TZOFFSETTO:-0500
TZNAME:EST
DTSTART:20231105T060000
END:STANDARD
BEGIN:DAYLIGHT
TZOFFSETFROM:-0500
TZOFFSETTO:-0400
TZNAME:EDT
DTSTART:20240310T070000
END:DAYLIGHT
BEGIN:STANDARD
TZOFFSETFROM:-0400
TZOFFSETTO:-0500
TZNAME:EST
DTSTART:20241103T060000
END:STANDARD
BEGIN:DAYLIGHT
TZOFFSETFROM:-0500
TZOFFSETTO:-0400
TZNAME:EDT
DTSTART:20250309T070000
END:DAYLIGHT
BEGIN:STANDARD
TZOFFSETFROM:-0400
TZOFFSETTO:-0500
TZNAME:EST
DTSTART:20251102T060000
END:STANDARD
BEGIN:DAYLIGHT
TZOFFSETFROM:-0500
TZOFFSETTO:-0400
TZNAME:EDT
DTSTART:20260308T070000
END:DAYLIGHT
BEGIN:STANDARD
TZOFFSETFROM:-0400
TZOFFSETTO:-0500
TZNAME:EST
DTSTART:20261101T060000
END:STANDARD
END:VTIMEZONE
BEGIN:VEVENT
DTSTART;TZID=America/New_York:20250304T190000
DTEND;TZID=America/New_York:20250304T203000
DTSTAMP:20260420T050318
CREATED:20250303T142251Z
LAST-MODIFIED:20250303T142711Z
UID:10000083-1741114800-1741120200@www.legacyministries.info
SUMMARY:Growing Disciples
DESCRIPTION:On the first Tuesday of each month\, we will gather at the Legacy Center and on Zoom in order to encourage one another to deepen our maturity as disciples of Jesus Christ. We will have time in prayer\, fellowship\, and study as we all seek to be and to Grow Disciples. \n 
URL:https://www.legacyministries.info/event-calendar/growing-disciples-4/
LOCATION:Legacy Center\, 1952 Hwy. 54\, Suite 100\, Peachtree City\, GA\, 30269\, United States
CATEGORIES:Discipleship,Training
ATTACH;FMTTYPE=image/jpeg:https://www.legacyministries.info/wp-content/uploads/2024/12/Discipleship-Group-02.jpg
ORGANIZER;CN="Legacy Ministries":MAILTO:Info@LegacyMinistries.Info
GEO:33.429538;-84.555185
X-APPLE-STRUCTURED-LOCATION;VALUE=URI;X-ADDRESS=Legacy Center 1952 Hwy. 54 Suite 100 Peachtree City GA 30269 United States;X-APPLE-RADIUS=500;X-TITLE=1952 Hwy. 54\, Suite 100:geo:-84.555185,33.429538
END:VEVENT
BEGIN:VEVENT
DTSTART;TZID=America/New_York:20250304T190000
DTEND;TZID=America/New_York:20250304T203000
DTSTAMP:20260420T050318
CREATED:20241106T212007Z
LAST-MODIFIED:20241228T045421Z
UID:10000143-1741114800-1741120200@www.legacyministries.info
SUMMARY:Growing Disciples
DESCRIPTION:On the first Tuesday of each month\, we will gather at the Legacy Center and on Zoom in order to encourage one another to deepen our maturity as disciples of Jesus Christ. We will have time in prayer\, fellowship\, and study as we all seek to be and to Grow Disciples. \n 
URL:https://www.legacyministries.info/event-calendar/growing-disciples-2/2025-03-04/
LOCATION:Legacy Center\, 1952 Hwy. 54\, Suite 100\, Peachtree City\, GA\, 30269\, United States
CATEGORIES:Discipleship,Training
ATTACH;FMTTYPE=image/jpeg:https://www.legacyministries.info/wp-content/uploads/2024/12/Discipleship-Group-02.jpg
ORGANIZER;CN="Legacy Ministries":MAILTO:Info@LegacyMinistries.Info
GEO:33.429538;-84.555185
X-APPLE-STRUCTURED-LOCATION;VALUE=URI;X-ADDRESS=Legacy Center 1952 Hwy. 54 Suite 100 Peachtree City GA 30269 United States;X-APPLE-RADIUS=500;X-TITLE=1952 Hwy. 54\, Suite 100:geo:-84.555185,33.429538
END:VEVENT
BEGIN:VEVENT
DTSTART;TZID=America/New_York:20250218T190000
DTEND;TZID=America/New_York:20250218T203000
DTSTAMP:20260420T050318
CREATED:20241030T154118Z
LAST-MODIFIED:20250215T223432Z
UID:10000009-1739905200-1739910600@www.legacyministries.info
SUMMARY:How to Study Your Bible - Session 2 - Feb 2025
DESCRIPTION:We hope you will join us for this second in our two-part series on learning effective methods for studying your Bible. We will discuss the importance of Scriptural context as well as techniques associated with observing what we read\, accurately interpreting the Word\, and applying it rightly in our own lives. \nIf you were unable to join us for the first session in this series\, please feel encouraged to join us anyway. We will provide an overview and offer some Q&A time. In addition\, you can watch a YouTube video of the first session HERE. A link to the PDF handout for the session is included on the YouTube video page and can also be accessed HERE. \nIf you have time before this second session\, we encourage you to observe chapter one from Paul’s letter to Titus (included in the the PDF handout). We’d love to hear all of the Holy Spirit-led “ah ha!” moments you get from your observation time (marking\, listing\, word study\, etc.). We pray that you are and will be inspired by digging deeper into His Word and getting to know Him more and more. \nAll Scripture is inspired by God and beneficial for teaching\, for rebuke\, for correction\, for training in righteousness; so that the man or woman of God may be fully capable\, equipped for every good work.  — 2 Timothy 3:16-17 (NASB) \nAfter registering\, please visit HERE to see more Legacy Ministries events and activities.
URL:https://www.legacyministries.info/event-calendar/how-to-study-your-bible-session-2-feb-2025/
LOCATION:Legacy Center\, 1952 Hwy. 54\, Suite 100\, Peachtree City\, GA\, 30269\, United States
CATEGORIES:Scripture Studies,Training
ATTACH;FMTTYPE=image/jpeg:https://www.legacyministries.info/wp-content/uploads/2024/10/Bible-Study-scaled.jpg
ORGANIZER;CN="Legacy Ministries":MAILTO:Info@LegacyMinistries.Info
GEO:33.429538;-84.555185
X-APPLE-STRUCTURED-LOCATION;VALUE=URI;X-ADDRESS=Legacy Center 1952 Hwy. 54 Suite 100 Peachtree City GA 30269 United States;X-APPLE-RADIUS=500;X-TITLE=1952 Hwy. 54\, Suite 100:geo:-84.555185,33.429538
END:VEVENT
BEGIN:VEVENT
DTSTART;TZID=America/New_York:20250204T190000
DTEND;TZID=America/New_York:20250204T203000
DTSTAMP:20260420T050318
CREATED:20250203T153155Z
LAST-MODIFIED:20250203T210825Z
UID:10000082-1738695600-1738701000@www.legacyministries.info
SUMMARY:Growing Disciples
DESCRIPTION:On the first Tuesday of each month\, we will gather at the Legacy Center and on Zoom in order to encourage one another to deepen our maturity as disciples of Jesus Christ. We will have time in prayer\, fellowship\, and study as we all seek to be and to Grow Disciples. \n 
URL:https://www.legacyministries.info/event-calendar/growing-disciples-3/
LOCATION:Legacy Center\, 1952 Hwy. 54\, Suite 100\, Peachtree City\, GA\, 30269\, United States
CATEGORIES:Discipleship,Training
ATTACH;FMTTYPE=image/jpeg:https://www.legacyministries.info/wp-content/uploads/2024/12/Discipleship-Group-02.jpg
ORGANIZER;CN="Legacy Ministries":MAILTO:Info@LegacyMinistries.Info
GEO:33.429538;-84.555185
X-APPLE-STRUCTURED-LOCATION;VALUE=URI;X-ADDRESS=Legacy Center 1952 Hwy. 54 Suite 100 Peachtree City GA 30269 United States;X-APPLE-RADIUS=500;X-TITLE=1952 Hwy. 54\, Suite 100:geo:-84.555185,33.429538
END:VEVENT
BEGIN:VEVENT
DTSTART;TZID=America/New_York:20250204T190000
DTEND;TZID=America/New_York:20250204T203000
DTSTAMP:20260420T050318
CREATED:20241106T212007Z
LAST-MODIFIED:20241228T045421Z
UID:10000142-1738695600-1738701000@www.legacyministries.info
SUMMARY:Growing Disciples
DESCRIPTION:On the first Tuesday of each month\, we will gather at the Legacy Center and on Zoom in order to encourage one another to deepen our maturity as disciples of Jesus Christ. We will have time in prayer\, fellowship\, and study as we all seek to be and to Grow Disciples. \n 
URL:https://www.legacyministries.info/event-calendar/growing-disciples-2/2025-02-04/
LOCATION:Legacy Center\, 1952 Hwy. 54\, Suite 100\, Peachtree City\, GA\, 30269\, United States
CATEGORIES:Discipleship,Training
ATTACH;FMTTYPE=image/jpeg:https://www.legacyministries.info/wp-content/uploads/2024/12/Discipleship-Group-02.jpg
ORGANIZER;CN="Legacy Ministries":MAILTO:Info@LegacyMinistries.Info
GEO:33.429538;-84.555185
X-APPLE-STRUCTURED-LOCATION;VALUE=URI;X-ADDRESS=Legacy Center 1952 Hwy. 54 Suite 100 Peachtree City GA 30269 United States;X-APPLE-RADIUS=500;X-TITLE=1952 Hwy. 54\, Suite 100:geo:-84.555185,33.429538
END:VEVENT
BEGIN:VEVENT
DTSTART;TZID=America/New_York:20250121T190000
DTEND;TZID=America/New_York:20250121T203000
DTSTAMP:20260420T050318
CREATED:20241030T153910Z
LAST-MODIFIED:20250121T204117Z
UID:10000008-1737486000-1737491400@www.legacyministries.info
SUMMARY:How to Study Your Bible - Session 1 - Jan 2025
DESCRIPTION:January 21 Update : Due to inclement weather\, this event will be held via Zoom only. \n\nWe hope you will join us for this first in a two-part series on learning effective methods for studying your Bible. We will discuss the importance of Scriptural context as well as techniques associated with observing what we read\, accurately interpreting the Word\, and applying it rightly in our own lives. \nAll Scripture is inspired by God and beneficial for teaching\, for rebuke\, for correction\, for training in righteousness; so that the man or woman of God may be fully capable\, equipped for every good work.  — 2 Timothy 3:16-17 (NASB) \nAfter registering\, please visit HERE to see more Legacy Ministries events and activities.
URL:https://www.legacyministries.info/event-calendar/how-to-study-your-bible-session-1-jan-2025/
LOCATION:Legacy Center\, 1952 Hwy. 54\, Suite 100\, Peachtree City\, GA\, 30269\, United States
CATEGORIES:Scripture Studies,Training
ATTACH;FMTTYPE=image/jpeg:https://www.legacyministries.info/wp-content/uploads/2024/10/Bible-Study-scaled.jpg
ORGANIZER;CN="Legacy Ministries":MAILTO:Info@LegacyMinistries.Info
GEO:33.429538;-84.555185
X-APPLE-STRUCTURED-LOCATION;VALUE=URI;X-ADDRESS=Legacy Center 1952 Hwy. 54 Suite 100 Peachtree City GA 30269 United States;X-APPLE-RADIUS=500;X-TITLE=1952 Hwy. 54\, Suite 100:geo:-84.555185,33.429538
END:VEVENT
BEGIN:VEVENT
DTSTART;TZID=America/New_York:20250107T190000
DTEND;TZID=America/New_York:20250107T203000
DTSTAMP:20260420T050318
CREATED:20241106T212007Z
LAST-MODIFIED:20241228T045421Z
UID:10000081-1736276400-1736281800@www.legacyministries.info
SUMMARY:Growing Disciples
DESCRIPTION:On the first Tuesday of each month\, we will gather at the Legacy Center and on Zoom in order to encourage one another to deepen our maturity as disciples of Jesus Christ. We will have time in prayer\, fellowship\, and study as we all seek to be and to Grow Disciples. \n 
URL:https://www.legacyministries.info/event-calendar/growing-disciples-2/2025-01-07/
LOCATION:Legacy Center\, 1952 Hwy. 54\, Suite 100\, Peachtree City\, GA\, 30269\, United States
CATEGORIES:Discipleship,Training
ATTACH;FMTTYPE=image/jpeg:https://www.legacyministries.info/wp-content/uploads/2024/12/Discipleship-Group-02.jpg
ORGANIZER;CN="Legacy Ministries":MAILTO:Info@LegacyMinistries.Info
GEO:33.429538;-84.555185
X-APPLE-STRUCTURED-LOCATION;VALUE=URI;X-ADDRESS=Legacy Center 1952 Hwy. 54 Suite 100 Peachtree City GA 30269 United States;X-APPLE-RADIUS=500;X-TITLE=1952 Hwy. 54\, Suite 100:geo:-84.555185,33.429538
END:VEVENT
BEGIN:VEVENT
DTSTART;TZID=America/New_York:20241203T190000
DTEND;TZID=America/New_York:20241203T203000
DTSTAMP:20260420T050318
CREATED:20241106T212007Z
LAST-MODIFIED:20241228T045421Z
UID:10000080-1733252400-1733257800@www.legacyministries.info
SUMMARY:Growing Disciples
DESCRIPTION:On the first Tuesday of each month\, we will gather at the Legacy Center and on Zoom in order to encourage one another to deepen our maturity as disciples of Jesus Christ. We will have time in prayer\, fellowship\, and study as we all seek to be and to Grow Disciples. \n 
URL:https://www.legacyministries.info/event-calendar/growing-disciples-2/2024-12-03/
LOCATION:Legacy Center\, 1952 Hwy. 54\, Suite 100\, Peachtree City\, GA\, 30269\, United States
CATEGORIES:Discipleship,Training
ATTACH;FMTTYPE=image/jpeg:https://www.legacyministries.info/wp-content/uploads/2024/12/Discipleship-Group-02.jpg
ORGANIZER;CN="Legacy Ministries":MAILTO:Info@LegacyMinistries.Info
GEO:33.429538;-84.555185
X-APPLE-STRUCTURED-LOCATION;VALUE=URI;X-ADDRESS=Legacy Center 1952 Hwy. 54 Suite 100 Peachtree City GA 30269 United States;X-APPLE-RADIUS=500;X-TITLE=1952 Hwy. 54\, Suite 100:geo:-84.555185,33.429538
END:VEVENT
END:VCALENDAR