BEGIN:VCALENDAR
VERSION:2.0
PRODID:-//Legacy Ministries - ECPv6.15.20//NONSGML v1.0//EN
CALSCALE:GREGORIAN
METHOD:PUBLISH
X-WR-CALNAME:Legacy Ministries
X-ORIGINAL-URL:https://www.legacyministries.info
X-WR-CALDESC:Events for Legacy Ministries
REFRESH-INTERVAL;VALUE=DURATION:PT1H
X-Robots-Tag:noindex
X-PUBLISHED-TTL:PT1H
BEGIN:VTIMEZONE
TZID:America/New_York
BEGIN:DAYLIGHT
TZOFFSETFROM:-0500
TZOFFSETTO:-0400
TZNAME:EDT
DTSTART:20240310T070000
END:DAYLIGHT
BEGIN:STANDARD
TZOFFSETFROM:-0400
TZOFFSETTO:-0500
TZNAME:EST
DTSTART:20241103T060000
END:STANDARD
BEGIN:DAYLIGHT
TZOFFSETFROM:-0500
TZOFFSETTO:-0400
TZNAME:EDT
DTSTART:20250309T070000
END:DAYLIGHT
BEGIN:STANDARD
TZOFFSETFROM:-0400
TZOFFSETTO:-0500
TZNAME:EST
DTSTART:20251102T060000
END:STANDARD
BEGIN:DAYLIGHT
TZOFFSETFROM:-0500
TZOFFSETTO:-0400
TZNAME:EDT
DTSTART:20260308T070000
END:DAYLIGHT
BEGIN:STANDARD
TZOFFSETFROM:-0400
TZOFFSETTO:-0500
TZNAME:EST
DTSTART:20261101T060000
END:STANDARD
END:VTIMEZONE
BEGIN:VEVENT
DTSTART;TZID=America/New_York:20251216T190000
DTEND;TZID=America/New_York:20251216T210000
DTSTAMP:20260419T121715
CREATED:20251202T164411Z
LAST-MODIFIED:20260105T215830Z
UID:10000165-1765911600-1765918800@www.legacyministries.info
SUMMARY:Bible Study - The Nativity Story
DESCRIPTION:We hope you will join us for this evening of fellowship and a showing of the movie\, “The Nativity Story“.  \nPlease feel free to open this link for a description of the film (link opens in new browser tab). \n\nPlease note: All links below open in a new browser tab so that you don’t lose your place. \nAt this very special time of the year\, it is a blessing to be reminded of the humble beginnings of the journey that Jesus willingly took to join us as “God with us”. In this movie\, the characters very effectively demonstrate the natural human tensions in the experience of the miraculous conception and birth of our Lord and Savior. \n\nREGISTRATION REMINDER : When registering\, please ensure that you complete the checkout process. How-To details can be reviewed HERE. \nAfter registering\, please visit HERE to see more Legacy Ministries events and activities.
URL:https://www.legacyministries.info/event-calendar/dec2025-bible-study/
LOCATION:Gardner Home\, 33 Dorothy Drive\, Sharpsburg\, GA\, 30277\, United States
CATEGORIES:Scripture Studies,Training
ATTACH;FMTTYPE=image/png:https://www.legacyministries.info/wp-content/uploads/2025/12/The-Nativity-Story.png
ORGANIZER;CN="Legacy Ministries":MAILTO:Info@LegacyMinistries.Info
GEO:33.3578072;-84.6665286
X-APPLE-STRUCTURED-LOCATION;VALUE=URI;X-ADDRESS=Gardner Home 33 Dorothy Drive Sharpsburg GA 30277 United States;X-APPLE-RADIUS=500;X-TITLE=33 Dorothy Drive:geo:-84.6665286,33.3578072
END:VEVENT
END:VCALENDAR